BEGIN:VCALENDAR
VERSION:2.0
PRODID:-//Zadarska nadbiskupija - ECPv6.15.20//NONSGML v1.0//EN
CALSCALE:GREGORIAN
METHOD:PUBLISH
X-WR-CALNAME:Zadarska nadbiskupija
X-ORIGINAL-URL:https://www.zadarskanadbiskupija.hr
X-WR-CALDESC:Događaji za Zadarska nadbiskupija
REFRESH-INTERVAL;VALUE=DURATION:PT1H
X-Robots-Tag:noindex
X-PUBLISHED-TTL:PT1H
BEGIN:VTIMEZONE
TZID:Europe/Zagreb
BEGIN:DAYLIGHT
TZOFFSETFROM:+0100
TZOFFSETTO:+0200
TZNAME:CEST
DTSTART:20220327T010000
END:DAYLIGHT
BEGIN:STANDARD
TZOFFSETFROM:+0200
TZOFFSETTO:+0100
TZNAME:CET
DTSTART:20221030T010000
END:STANDARD
BEGIN:DAYLIGHT
TZOFFSETFROM:+0100
TZOFFSETTO:+0200
TZNAME:CEST
DTSTART:20230326T010000
END:DAYLIGHT
BEGIN:STANDARD
TZOFFSETFROM:+0200
TZOFFSETTO:+0100
TZNAME:CET
DTSTART:20231029T010000
END:STANDARD
BEGIN:DAYLIGHT
TZOFFSETFROM:+0100
TZOFFSETTO:+0200
TZNAME:CEST
DTSTART:20240331T010000
END:DAYLIGHT
BEGIN:STANDARD
TZOFFSETFROM:+0200
TZOFFSETTO:+0100
TZNAME:CET
DTSTART:20241027T010000
END:STANDARD
END:VTIMEZONE
BEGIN:VEVENT
DTSTART;VALUE=DATE:20231223
DTEND;VALUE=DATE:20231224
DTSTAMP:20260422T110614
CREATED:20231127T131259Z
LAST-MODIFIED:20231127T131259Z
UID:78625-1703289600-1703375999@www.zadarskanadbiskupija.hr
SUMMARY:Obilježavanje mučeničke smrti sluge Božje don Janeza Kranjca i don Ante Letinića
DESCRIPTION:
URL:https://www.zadarskanadbiskupija.hr/najave/obiljezavanje-mucenicke-smrti-sluge-bozje-don-janeza-kranjca-i-don-ante-letinica/
LOCATION:Crkva sv. Nikole – Kistanje\, Trg svetog Nikole 7A\, Kistanje\, 22305
ATTACH;FMTTYPE=image/png:https://www.zadarskanadbiskupija.hr/wp-content/uploads/2023/11/Slika-zaslona-2023-11-06-u-16.28.22.png
END:VEVENT
END:VCALENDAR